BEGIN:VCALENDAR
VERSION:2.0
PRODID:-//jEvents 2.0 for Joomla//EN
CALSCALE:GREGORIAN
METHOD:PUBLISH
BEGIN:VEVENT
UID:d42409eb7482abfd893b346f3bb0159f
CATEGORIES:DEFAULT
CREATED:20240516T160523
SUMMARY:Barry Hilton at Netherwood
LOCATION:Netherwood\, Nottingham Road
DESCRIPTION:<p>BARRY HILTON<br />Tuesday, July 30th<br />Show Starts at 19.30<br />R280
  per person</p><p>Get yourself some thigh-slapping, snort-out-loud kinda la
 ughter with comedian Barry Hilton at The Bull Ring, Netherwood Farm in Nott
 ingham Road this JULY.</p><p>Having your funny bone tickled by South Africa
 's favourite family-friendly comedian is definitely a great way to spend an
  evening out with friends and family.</p><p>Barry has an uncanny knack of f
 inding the humour in everyday situations that everyone can relate to and la
 ugh about. People of all ages and backgrounds have been laughing with Barry
  for over four decades, making him somewhat of a comedy icon in South Afric
 a.</p><p>With humour that is never rude or crude, he leaves his audience in
  stitches and always wanting more.</p><p>To book and support Midlands Hospi
 ce email <span id="cloak1d4640e633ee60720d62f74a2fbb9b8d">This email addres
 s is being protected from spambots. You need JavaScript enabled to view it.
 </span><script type='text/javascript'>
				document.getElementById('cloak1d
 4640e633ee60720d62f74a2fbb9b8d').innerHTML = '';
				var prefix = '&#109;a'
  + 'i&#108;' + '&#116;o';
				var path = 'hr' + 'ef' + '=';
				var addy1d4
 640e633ee60720d62f74a2fbb9b8d = 'gm' + '&#64;';
				addy1d4640e633ee60720d6
 2f74a2fbb9b8d = addy1d4640e633ee60720d62f74a2fbb9b8d + 'm&#105;dl&#97;ndsh&
 #111;sp&#105;c&#101;' + '&#46;' + '&#111;rg' + '&#46;' + 'z&#97;';
				var 
 addy_text1d4640e633ee60720d62f74a2fbb9b8d = 'gm' + '&#64;' + 'm&#105;dl&#97
 ;ndsh&#111;sp&#105;c&#101;' + '&#46;' + '&#111;rg' + '&#46;' + 'z&#97;';doc
 ument.getElementById('cloak1d4640e633ee60720d62f74a2fbb9b8d').innerHTML += 
 '<a ' + path + '\'' + prefix + ':' + addy1d4640e633ee60720d62f74a2fbb9b8d +
  '\'>'+addy_text1d4640e633ee60720d62f74a2fbb9b8d+'<\/a>';
		</script></p>
CONTACT:This email address is being protected from spambots. You need JavaScript enabled to view it.
				document.getElementById('cloak400f1a5e19b3888f04199984d3d55845').innerHTML = '';
				var prefix = '&#109;a' + 'i&#108;' + '&#116;o';
				var path = 'hr' + 'ef' + '=';
				var addy400f1a5e19b3888f04199984d3d55845 = 'gm' + '&#64;';
				addy400f1a5e19b3888f04199984d3d55845 = addy400f1a5e19b3888f04199984d3d55845 + 'm&#105;dl&#97;ndsh&#111;sp&#105;c&#101;' + '&#46;' + '&#111;rg' + '&#46;' + 'z&#97;';
				var addy_text400f1a5e19b3888f04199984d3d55845 = 'gm' + '&#64;' + 'm&#105;dl&#97;ndsh&#111;sp&#105;c&#101;' + '&#46;' + '&#111;rg' + '&#46;' + 'z&#97;';document.getElementById('cloak400f1a5e19b3888f04199984d3d55845').innerHTML += '<a ' + path + '\'' + prefix + ':' + addy400f1a5e19b3888f04199984d3d55845 + '\'>'+addy_text400f1a5e19b3888f04199984d3d55845+'';
		
DTSTAMP:20260421T002303
DTSTART;TZID=Africa/Johannesburg:20240730T193000
SEQUENCE:0
TRANSP:OPAQUE
END:VEVENT
END:VCALENDAR