BEGIN:VCALENDAR
VERSION:2.0
PRODID:-//jEvents 2.0 for Joomla//EN
CALSCALE:GREGORIAN
METHOD:PUBLISH
BEGIN:VEVENT
UID:ffcd9b933906ee6ee58b43a9f35d67a3
CATEGORIES:DEFAULT
CREATED:20240626T092531
SUMMARY:2024 Business Funding Masterclass and Expo
LOCATION:TBC
DESCRIPTION:2024 Business Funding Masterclass and Expo\nEvent Details:\nDate: June 29, 
 2024\nTime: 7:30am - 8:30am Exhibitors Set Up\n9:00am – 10:00am Breakfast/R
 egistration/Networking\n10:00am – 5:00pm Masterclass program\nVenue: Pieter
 maritzburg\nWomen in Business South Africa lead by CEO Nompilo Gumede is ho
 sting a Business Funding Masterclass on June 29, 2024, aiming to empower en
 trepreneurs in South Africa. Gathering a diverse group of over 50 attendees
 , including startup founders, small business owners, investors, sponsors an
 d industry experts. The event will cover topics on compliance, grant fundin
 g, incubation programs, and resources that can assist you to acquire fundin
 g. The main objective of the event is to address the critical challenge tha
 t many entrepreneurs face: the difficulty in accessing business funding. By
  bridging the gap between funders and entrepreneurs, and educating them on 
 how to successfully apply for funding, we can foster economic growth and in
 dependence.\nAlthough this initiative is women-led, we recognize that fundi
 ng is a challenge faced by all entrepreneurs. Therefore, male entrepreneurs
  are also invited to join this event to gain valuable insights and support.
 \nWhether you just have a business idea, just started a business, or runnin
 g an established business the Business Funding Masterclass and EXPO is your
  ultimate guide to unlocking the secrets of business funding.\nHere is what
  you can expect:\n• Learn how to decipher grant applications to crafting wi
 nning proposals, this class will empower you to secure that business fundin
 g.\n• Connect with other like-minded entrepreneurs.\n• Meet potential inves
 tors from banks, grant funders, funding agencies, capital investors and mor
 e.\n• Showcase your product or service directly to attendees and potential 
 investors. Distribute your business flyers maximizing exposure for your bra
 nd.\nThe event highlights will include panel discussions with funding stake
 holders such as SEDA, IDC, KZN Growth fund, First National Bank, testimonia
 ls from entrepreneurs some which have received over a million in grant fund
 ing, masterclass on compliance, how to get your business funding ready, gue
 st speakers Aadila Kajeer, the founder of Padelpmb and serial entrepreneur,
  technology innovator and thought leader in the funding sector, Darlene Men
 zies, CEO of Finfind – South Africa’s leading online access to finance solu
 tion. Sponsors IKhoka and Mercedes will be in attendances to engage with at
 tendees. - Says Mandy Chibabambo – the event coordinator of Women in Busine
 ss.\nIn celebration of Youth month we have a community outreach opportunity
  for companies or public to sponsor a seat for a youth owned business to at
 tend the Business Funding Masterclass at R350. This month, June 16th, we ho
 nour the courageous youth who stood for change in 1976 by empowering the le
 aders of tomorrow. By supporting youth-owned businesses, we continue the le
 gacy of empowerment, job creation and progress. Together, we can build a br
 ighter, more inclusive future.\nThe Women In Business organization is a soc
 ial networking platform available to all entrepreneurial women via events a
 nd functions. Women In Business is dedicated to sharing of knowledge, skill
 s and encouragement. Our reach goes far and wide extending throughout South
  Africa and internationally. As the award winning 2018/2019 South African &
 amp; South African Development Community (SADC), Africa’s Most Influential 
 Women in Business &amp; Government - SME Sector.\nContact information:\nFor
  inquiries please contact:\nMandy Chibambo\nEvents Coordinator, Women In Bu
 siness\nThis email address is being protected from spambots. You need JavaS
 cript enabled to view it.
				document.getElementById('cloak573347197c3d7ae
 02750b09a408a8dfe').innerHTML = '';
				var prefix = '&#109;a' + 'i&#108;' 
 + '&#116;o';
				var path = 'hr' + 'ef' + '=';
				var addy573347197c3d7ae0
 2750b09a408a8dfe = 'm&#97;ndych&#105;b&#97;mb&#111;' + '&#64;';
				addy573
 347197c3d7ae02750b09a408a8dfe = addy573347197c3d7ae02750b09a408a8dfe + 'gm&
 #97;&#105;l' + '&#46;' + 'c&#111;m';
				var addy_text573347197c3d7ae02750b
 09a408a8dfe = 'm&#97;ndych&#105;b&#97;mb&#111;' + '&#64;' + 'gm&#97;&#105;l
 ' + '&#46;' + 'c&#111;m';document.getElementById('cloak573347197c3d7ae02750
 b09a408a8dfe').innerHTML += '<a ' + path + '\'' + prefix + ':' + addy573347
 197c3d7ae02750b09a408a8dfe + '\'>'+addy_text573347197c3d7ae02750b09a408a8df
 e+'';
		\n084 415 6486\nABOUT WOMEN IN BUSINESS Women In Business is very p
 roud of a history of 16 years of voluntary service. As a Non-Profit Organis
 ation (2020/911027/08) we have supported and encouraged all with whom we ha
 ve had the pleasure of interacting with. The organisation is managed by thr
 ee voluntary directors and overseen by a voluntary committee. Any funds rai
 sed are solely used for the purpose of the pursuance of entrepreneurial exc
 ellence of our members. Women In Business hosts various events (virtual and
  actual) to share knowledge, skills, information and to network with one an
 other.\n
X-ALT-DESC;FMTTYPE=text/html:<p>2024 Business Funding Masterclass and Expo</p><p>Event Details:<br />Dat
 e: June 29, 2024<br />Time: 7:30am - 8:30am Exhibitors Set Up<br />9:00am –
  10:00am Breakfast/Registration/Networking<br />10:00am – 5:00pm Masterclas
 s program<br />Venue: Pietermaritzburg</p><p>Women in Business South Africa
  lead by CEO Nompilo Gumede is hosting a Business Funding Masterclass on Ju
 ne 29, 2024, aiming to empower entrepreneurs in South Africa. Gathering a d
 iverse group of over 50 attendees, including startup founders, small busine
 ss owners, investors, sponsors and industry experts. The event will cover t
 opics on compliance, grant funding, incubation programs, and resources that
  can assist you to acquire funding. The main objective of the event is to a
 ddress the critical challenge that many entrepreneurs face: the difficulty 
 in accessing business funding. By bridging the gap between funders and entr
 epreneurs, and educating them on how to successfully apply for funding, we 
 can foster economic growth and independence.</p><p>Although this initiative
  is women-led, we recognize that funding is a challenge faced by all entrep
 reneurs. Therefore, male entrepreneurs are also invited to join this event 
 to gain valuable insights and support.</p><p>Whether you just have a busine
 ss idea, just started a business, or running an established business the Bu
 siness Funding Masterclass and EXPO is your ultimate guide to unlocking the
  secrets of business funding.</p><p>Here is what you can expect:<br />• Lea
 rn how to decipher grant applications to crafting winning proposals, this c
 lass will empower you to secure that business funding.<br />• Connect with 
 other like-minded entrepreneurs.<br />• Meet potential investors from banks
 , grant funders, funding agencies, capital investors and more.<br />• Showc
 ase your product or service directly to attendees and potential investors. 
 Distribute your business flyers maximizing exposure for your brand.</p><p>T
 he event highlights will include panel discussions with funding stakeholder
 s such as SEDA, IDC, KZN Growth fund, First National Bank, testimonials fro
 m entrepreneurs some which have received over a million in grant funding, m
 asterclass on compliance, how to get your business funding ready, guest spe
 akers Aadila Kajeer, the founder of Padelpmb and serial entrepreneur, techn
 ology innovator and thought leader in the funding sector, Darlene Menzies, 
 CEO of Finfind – South Africa’s leading online access to finance solution. 
 Sponsors IKhoka and Mercedes will be in attendances to engage with attendee
 s. - Says Mandy Chibabambo – the event coordinator of Women in Business.</p
 ><p>In celebration of Youth month we have a community outreach opportunity 
 for companies or public to sponsor a seat for a youth owned business to att
 end the Business Funding Masterclass at R350. This month, June 16th, we hon
 our the courageous youth who stood for change in 1976 by empowering the lea
 ders of tomorrow. By supporting youth-owned businesses, we continue the leg
 acy of empowerment, job creation and progress. Together, we can build a bri
 ghter, more inclusive future.</p><p>The Women In Business organization is a
  social networking platform available to all entrepreneurial women via even
 ts and functions. Women In Business is dedicated to sharing of knowledge, s
 kills and encouragement. Our reach goes far and wide extending throughout S
 outh Africa and internationally. As the award winning 2018/2019 South Afric
 an &amp; South African Development Community (SADC), Africa’s Most Influent
 ial Women in Business &amp; Government - SME Sector.</p><p>Contact informat
 ion:<br />For inquiries please contact:<br />Mandy Chibambo<br />Events Coo
 rdinator, Women In Business<br /><span id="cloak573347197c3d7ae02750b09a408
 a8dfe">This email address is being protected from spambots. You need JavaSc
 ript enabled to view it.</span><script type='text/javascript'>
				document
 .getElementById('cloak573347197c3d7ae02750b09a408a8dfe').innerHTML = '';
		
 		var prefix = '&#109;a' + 'i&#108;' + '&#116;o';
				var path = 'hr' + 'ef
 ' + '=';
				var addy573347197c3d7ae02750b09a408a8dfe = 'm&#97;ndych&#105;b
 &#97;mb&#111;' + '&#64;';
				addy573347197c3d7ae02750b09a408a8dfe = addy57
 3347197c3d7ae02750b09a408a8dfe + 'gm&#97;&#105;l' + '&#46;' + 'c&#111;m';
	
 			var addy_text573347197c3d7ae02750b09a408a8dfe = 'm&#97;ndych&#105;b&#97;
 mb&#111;' + '&#64;' + 'gm&#97;&#105;l' + '&#46;' + 'c&#111;m';document.getE
 lementById('cloak573347197c3d7ae02750b09a408a8dfe').innerHTML += '<a ' + pa
 th + '\'' + prefix + ':' + addy573347197c3d7ae02750b09a408a8dfe + '\'>'+add
 y_text573347197c3d7ae02750b09a408a8dfe+'<\/a>';
		</script><br />084 415 64
 86</p><p>ABOUT WOMEN IN BUSINESS Women In Business is very proud of a histo
 ry of 16 years of voluntary service. As a Non-Profit Organisation (2020/911
 027/08) we have supported and encouraged all with whom we have had the plea
 sure of interacting with. The organisation is managed by three voluntary di
 rectors and overseen by a voluntary committee. Any funds raised are solely 
 used for the purpose of the pursuance of entrepreneurial excellence of our 
 members. Women In Business hosts various events (virtual and actual) to sha
 re knowledge, skills, information and to network with one another.</p>
CONTACT:This email address is being protected from spambots. You need JavaScript enabled to view it.
				document.getElementById('cloakb90e9d63b9d0d06132480d98b2e85a61').innerHTML = '';
				var prefix = '&#109;a' + 'i&#108;' + '&#116;o';
				var path = 'hr' + 'ef' + '=';
				var addyb90e9d63b9d0d06132480d98b2e85a61 = 'm&#97;ndych&#105;b&#97;mb&#111;' + '&#64;';
				addyb90e9d63b9d0d06132480d98b2e85a61 = addyb90e9d63b9d0d06132480d98b2e85a61 + 'gm&#97;&#105;l' + '&#46;' + 'c&#111;m';
				var addy_textb90e9d63b9d0d06132480d98b2e85a61 = 'm&#97;ndych&#105;b&#97;mb&#111;' + '&#64;' + 'gm&#97;&#105;l' + '&#46;' + 'c&#111;m';document.getElementById('cloakb90e9d63b9d0d06132480d98b2e85a61').innerHTML += '<a ' + path + '\'' + prefix + ':' + addyb90e9d63b9d0d06132480d98b2e85a61 + '\'>'+addy_textb90e9d63b9d0d06132480d98b2e85a61+'';
		 or 084 415 6486
DTSTAMP:20260422T205343
DTSTART;TZID=Africa/Johannesburg:20240629T090000
SEQUENCE:0
TRANSP:OPAQUE
END:VEVENT
END:VCALENDAR